BEGIN:VCALENDAR
VERSION:2.0
CALSCALE:GREGORIAN
PRODID:https://kalender.karlsruhe.de/db/termine/
METHOD:PUBLISH
BEGIN:VEVENT
UID:578315
ORGANIZER;CN=Die Spiegelfechter:MAILTO:info@spiegelfechter.de
LOCATION:Kabarett in der Orgelfabrik - die Spiegelfechter
SUMMARY:Thilo Seibel — Deutschland überleben!
DESCRIPTION;ENCODING=QUOTED-PRINTABLE:Adam Schlonski ist auf jeden Fall schlechter dran als du.=0D=0A=0D=0A  Wenn du irge
 ndwann im Leben und wahrscheinlich erst vor kurzem mal gedacht hast: =E2=80
 =9EHerrjeh\, in diesem Land funktioniert gar nichts mehr.=E2=80=9C Oder soga
 r: =E2=80=9EIch kann gar keine Nachrichten mehr ertragen.=E2=80=9C Dann sol
 ltest du dir das Programm von Adam Schlonski nicht entgehen lassen.    Denn
  Adam Schlonski ist auf jeden Fall schlechter dran als du. Aber wahrscheinl
 ich besser drauf. Adam ist der charmante =C3=9Cberlebensk=C3=BCnstler mit M
 indestlohn. Er hat all die Jobs gemacht\, die du nicht machen willst: Von A 
 wie Schlachthof bis Z wie Pflegekraft 48 Stunden am Tag. Und dieser Adam Sc
 hlonski kennt nicht nur das wichtigste Lebensmotto: =E2=80=9ENie Sand in de
 n Kopf stecken!=E2=80=9C  =0D=0A  Er hat viel mehr f=C3=BCr dich: All die wertv
 ollen Skills\, mit denen auch du deinen Alltag in Deutschland =C3=BCberleben
  kannst. Und das auch noch mit Freude! Das ist Realsatire und echte Motivat
 ions-Comedy mit Mehrwert!    An diesem Abend hast du nicht nur Riesenspa=C3
 =9F. Du erh=C3=A4ltst obendrein von Adam Schlonski deinen individuellen =C3
 =9Cberlebens-Bauplan =C3=BCberreicht. Damit bekommst du nicht nur Lebenslus
 t. Sondern =C3=9Cberlebenslust und =E2=80=91kunst. Das musst du erlebt habe
 n.    Seien Sie dabei. Wir freuen uns auf Sie!  =0D=0A    Eintrittspreise & Ein
 tritt      Regul=C3=A4rer Preis: 22 =E2=82=AC      Erm=C3=A4=C3=9Figung f
 =C3=BCr Sch=C3=BCler und Studenten: 18 =E2=82=AC      Solidarit=C3=A4tstick
 et: 25 =E2=82=AC      Einlass: 19:30 Uhr      Beginn: 20:15 Uhr   =20
URL:https://kalender.karlsruhe.de/db/termine/theater/thilo_seibel_deutschland_uberleben
CLASS:PUBLIC
DTSTART:20261024T201500
DTEND:20261024T220000
DTSTAMP:20260127T084443
CATEGORIES:Theater, Tanz
ATTACH:https://kalender.karlsruhe.de/db/termine/theater/thilo_seibel_deutschland_uberleben/file/icon_Bild 06.02.23 um 11.36 (1).jpg
END:VEVENT

END:VCALENDAR
