BEGIN:VCALENDAR
VERSION:2.0
CALSCALE:GREGORIAN
PRODID:https://kalender.karlsruhe.de/db/termine/
METHOD:PUBLISH
BEGIN:VEVENT
UID:573547
ORGANIZER;CN=Die Spiegelfechter:MAILTO:info@spiegelfechter.de
LOCATION:Kabarett in der Orgelfabrik - die Spiegelfechter
SUMMARY:Thilo Seibel › Schon rum?
DESCRIPTION;ENCODING=QUOTED-PRINTABLE:Der politische Jahresr=C3=BCckblick mit Thilo Seibel=0D=0A=0D=0A      Was war 2026?
  Was alles wahr war und was alles nicht wahr war - Thilo Seibel hat es sich
  f=C3=BCr Sie gemerkt und unter die Kabarettlupe genommen.  =0D=0A  Nat=C3=BCrl
 ich gab es auch dieses Jahr wieder ein paar h=C3=BCbsche Superlative: Die u
 nterhaltsamsten Fehlentscheidungen\, die vollmundigsten Versprechungen und d
 ie sch=C3=B6nsten Versprecher\, die haltlosesten Behauptungen und die behaup
 tetsten Haltungen. Ein Blick zur=C3=BCck auf der Suche nach dem Zitat\, dem 
 Wort\, dem Bild\, dem Getr=C3=A4nk des Jahres und der beleidigten Leberwurst 
 des Jahres =C2=A0(erster Anw=C3=A4rter: Friedrich Merz- Wer sonst? ). Und g
 emeinsam mit dem Publikum geht Thilo Seibel auf die Suche nach dem Gef=C3
 =BChl des Jahres 2026.  =0D=0A  Ein Jahresr=C3=BCckblick - nicht einfach von Ja
 nuar bis Dezember\, sondern sauber geordnet von oben nach unten\, von wichtig
  nach nichtig und von drunter nach dr=C3=BCber.    =0D=0A  Der "brillante Parod
 ist" Seibel holt die Verantwortlichen des Jahres schonungslos auf die B=C3
 =BChne - und damit "sch=C3=BCtttelt er sein Publikum mit ganzen Lachsalven 
 durch=E2=80=9C=C2=A0S=C3=BCddeutsche Zeitung    =0D=0A          Freitag\, 02. Ja
 nuar 2027        Einlass: 19.30 Uhr    Beginn: 20:15 Uhr        VVK: =E2=82
 =AC 23 =E2=82=AC erm. 21\,- (Sch=C3=BCler\, Studenten & 10er Karte)    AK: 
 =E2=82=AC 23 =E2=82=AC erm. 21\,- (Sch=C3=BCler\, Studenten & 10er Karte)    
   Der politische Jahresr=C3=BCckblick mit Thilo Seibel    Link:     thilose
 ibel.de   =20
URL:https://kalender.karlsruhe.de/db/termine/theater/thilo_seibel_schon_rum
CLASS:PUBLIC
DTSTART:20270102T201500
DTEND:20270102T220000
DTSTAMP:20260127T083823
CATEGORIES:Theater, Tanz
ATTACH:https://kalender.karlsruhe.de/db/termine/theater/thilo_seibel_schon_rum/file/icon_Seibel_SchonRum_PR_300dpi_hoch.jpg
END:VEVENT

END:VCALENDAR
