BEGIN:VCALENDAR
VERSION:2.0
CALSCALE:GREGORIAN
PRODID:https://kalender.karlsruhe.de/db/termine/
METHOD:PUBLISH
BEGIN:VEVENT
UID:580062
ORGANIZER;CN=Badisches Staatstheater Karlsruhe:MAILTO:kartenservice@staatstheater.karlsruhe.de
LOCATION:Staatstheater, siehe Beschreibung
SUMMARY:Trinkbrunnen-Spaziergang (Und jetzt! Wochen der Nachhaltigkeit)
DESCRIPTION;ENCODING=QUOTED-PRINTABLE:=C2=A0=0D=0A=0D=0A
URL:https://kalender.karlsruhe.de/db/termine/theater/trinkbrunnen_spaziergang_und_jetzt_wochen
CLASS:PUBLIC
DTSTART:20260628T150000
DTEND:
DTSTAMP:20260313T175542
CATEGORIES:Theater, Tanz
ATTACH:https://kalender.karlsruhe.de/db/termine/theater/trinkbrunnen_spaziergang_und_jetzt_wochen/file/icon_BSK_Logo_Theater_mit_Schutzraum.jpg
END:VEVENT

END:VCALENDAR
