BEGIN:VCALENDAR
VERSION:2.0
CALSCALE:GREGORIAN
PRODID:https://kalender.karlsruhe.de/db/termine/
METHOD:PUBLISH
BEGIN:VEVENT
UID:579817
ORGANIZER;CN=marotte Theater:MAILTO:info@marotte-theater.de
LOCATION:marotte Theater
SUMMARY:Überraschungsstück (ab 4)
DESCRIPTION;ENCODING=QUOTED-PRINTABLE:Sommerfest in der marotte!=0D=0A=0D=0A  Als Abschluss des Sommerfestes erwartet Euc
 h ein =C3=9Cberraschungsst=C3=BCck. Seid gespannt\, wer die B=C3=BChne betri
 tt und welche Geschichte Ihr zu sehen bekommt.  =0D=0A  =0D=0A  F=C3=BCr alle gro
 =C3=9Fen und kleinen Menschen ab 4 Jahren. =20
URL:https://kalender.karlsruhe.de/db/termine/theater/uberraschungsstuck_ab4n
CLASS:PUBLIC
DTSTART:20260802T180000
DTEND:20260802T184500
DTSTAMP:20260306T094713
CATEGORIES:Theater, Tanz
ATTACH:https://kalender.karlsruhe.de/db/termine/theater/uberraschungsstuck_ab4n/file/icon_Sommerfest _Überraschung.jpg
END:VEVENT

END:VCALENDAR
