BEGIN:VCALENDAR
VERSION:2.0
CALSCALE:GREGORIAN
PRODID:https://kalender.karlsruhe.de/db/termine/
METHOD:PUBLISH
BEGIN:VEVENT
UID:579574
ORGANIZER;CN=Improtheater Karlsruhe:MAILTO:hello@improtheater-karlsruhe.com
LOCATION:marotte Theater
SUMMARY:Unser Dorf
DESCRIPTION;ENCODING=QUOTED-PRINTABLE:Improtheater-Show=0D=0A=0D=0A  Wenn im Dorf die Sonne bis sp=C3=A4t abends scheint 
 und irgendwo immer jemand grillt\, dann ist klar: Der Sommer ist da. Und mit
  ihm =C3=B6ffnen sich die T=C3=BCren zu gro=C3=9Fen und kleinen Dorfgeschic
 hten.    Es geht um Nachbarschaften\, Ger=C3=BCchte\, alte Bekannte\, neue Lie
 bschaften und die Frage\, wer schon wieder zu laut gefeiert hat.  =0D=0A  =0D=0A  Zw
 ischen Dorffest\, Gartenzaun und Stammtisch prallen Allt=C3=A4gliches und Ab
 surdes aufeinander. Nichts bleibt lange geheim\, alles wird kommentiert.  =0D=0A
   =0D=0A  Willkommen zu einem sommerlich-lockeren Improabend voller Lacher\, Cha
 os und sehr vertrauter Dorfmomente.  =0D=0A  Unser Dorf =E2=80=93 irgendwo zwis
 chen Badesee\, Bierbank und bester Unterhaltung.   =20
URL:https://kalender.karlsruhe.de/db/termine/theater/unser_dorf-3
CLASS:PUBLIC
DTSTART:20260613T200000
DTEND:
DTSTAMP:20260306T094648
CATEGORIES:Theater, Tanz
ATTACH:https://kalender.karlsruhe.de/db/termine/theater/unser_dorf-3/file/icon_Impro_logo_basic.jpg
END:VEVENT

END:VCALENDAR
