BEGIN:VCALENDAR
VERSION:2.0
CALSCALE:GREGORIAN
PRODID:https://kalender.karlsruhe.de/db/termine/
METHOD:PUBLISH
BEGIN:VEVENT
UID:579572
ORGANIZER;CN=Improtheater Karlsruhe:MAILTO:hello@improtheater-karlsruhe.com
LOCATION:marotte Theater
SUMMARY:Werwölfe von Düsterwald
DESCRIPTION;ENCODING=QUOTED-PRINTABLE:Improtheater-Show=0D=0A=0D=0A    Ein mittelalterliches Dorf ist in Angst und Schrec
 ken versetzt!      Unser beschauliches Dorf "D=C3=BCsterwald"\, hier wo wir 
 alle gut und gerne wohnen\, hier wo die Welt noch in Ordnung ist... bis pl
 =C3=B6tzlich die Werw=C3=B6lfe erwachen und =C3=BCber uns herfallen. K=C3
 =B6nnt ihr uns helfen die Monster in unserer Mitte zu finden und unser Dorf
  zu retten?   =20
URL:https://kalender.karlsruhe.de/db/termine/theater/werwolfe_von_dusterwald-1
CLASS:PUBLIC
DTSTART:20260529T200000
DTEND:
DTSTAMP:20260226T120855
CATEGORIES:Theater, Tanz
ATTACH:https://kalender.karlsruhe.de/db/termine/theater/werwolfe_von_dusterwald-1/file/icon_Impro_logo_basic.jpg
END:VEVENT

END:VCALENDAR
