BEGIN:VCALENDAR
VERSION:2.0
CALSCALE:GREGORIAN
PRODID:https://kalender.karlsruhe.de/db/termine/
METHOD:PUBLISH
BEGIN:VEVENT
UID:578154
ORGANIZER;CN=marotte Theater:MAILTO:info@marotte-theater.de
LOCATION:marotte Theater
SUMMARY:Wo die wilden Kerle wohnen (ab 4)
DESCRIPTION;ENCODING=QUOTED-PRINTABLE:Nach dem bekannten Kinderbuch von Maurice Sendak=0D=0A=0D=0A  An dem Abend\, als Max
  seinen Wolfspelz trug und nur Unfug im Kopf hatte\, schalt seine Mutter ihn
  "Wilder Kerl" und schickte ihn ohne Essen ins Bett. Genau in der Nacht wuc
 hs ein Wald in seinem Zimmer - der wuchs - und wuchs. Und pl=C3=B6tzlich wa
 r da ein Schiff\, mit dem segelte Max davon\, fast ein ganzes Jahr\, bis zu de
 m Ort\, wo die wilden Kerle wohnen. Mit seinem Zaubertrick z=C3=A4hmte Max d
 ie wilden Kerle und wurde von ihnen zum K=C3=B6nig gemacht. Gemeinsam waren
  sie dann so richtig wild. Bis Max wieder dorthin wollte\, wo ihn jemand am 
 allerliebsten hatte. Da roch es auf einmal nach gutem Essen und Max segelte
  wieder zur=C3=BCck\, bis in sein Zimmer... =20
URL:https://kalender.karlsruhe.de/db/termine/theater/wo_die_wilden_kerle_wohnen_ab4n-18
CLASS:PUBLIC
DTSTART:20260210T100000
DTEND:20260210T104500
DTSTAMP:20260120T085229
CATEGORIES:Theater, Tanz
ATTACH:https://kalender.karlsruhe.de/db/termine/theater/wo_die_wilden_kerle_wohnen_ab4n-18/file/icon_K-4.jpg
END:VEVENT

END:VCALENDAR
