BEGIN:VCALENDAR
VERSION:2.0
CALSCALE:GREGORIAN
PRODID:https://kalender.karlsruhe.de/db/termine/
METHOD:PUBLISH
BEGIN:VEVENT
UID:579158
ORGANIZER;CN=marotte Theater:MAILTO:info@marotte-theater.de
LOCATION:marotte Theater
SUMMARY:Wo die wilden Kerle wohnen (ab 4)
DESCRIPTION;ENCODING=QUOTED-PRINTABLE:Sommerfest in der marotte!=0D=0A=0D=0A    Nach dem bekannten Kinderbuch von Maurice
  Sendak      An dem Abend\, als Max seinen Wolfspelz trug und nur Unfug im K
 opf hatte\, schalt seine Mutter ihn "Wilder Kerl" und schickte ihn ohne Esse
 n ins Bett. Genau in der Nacht wuchs ein Wald in seinem Zimmer - der wuchs 
 - und wuchs. Und pl=C3=B6tzlich war da ein Schiff\, mit dem segelte Max davo
 n\, fast ein ganzes Jahr\, bis zu dem Ort\, wo die wilden Kerle wohnen. Mit se
 inem Zaubertrick z=C3=A4hmte Max die wilden Kerle und wurde von ihnen zum K
 =C3=B6nig gemacht. Gemeinsam waren sie dann so richtig wild. Bis Max wieder
  dorthin wollte\, wo ihn jemand am allerliebsten hatte. Da roch es auf einma
 l nach gutem Essen und Max segelte wieder zur=C3=BCck\, bis in sein Zimmer..
 . =20
URL:https://kalender.karlsruhe.de/db/termine/theater/wo_die_wilden_kerle_wohnen_ab4n-20
CLASS:PUBLIC
DTSTART:20260731T150000
DTEND:20260731T154500
DTSTAMP:20260306T094759
CATEGORIES:Theater, Tanz
ATTACH:https://kalender.karlsruhe.de/db/termine/theater/wo_die_wilden_kerle_wohnen_ab4n-20/file/icon_Sommerfest-K.jpg
END:VEVENT

END:VCALENDAR
