BEGIN:VCALENDAR
VERSION:2.0
CALSCALE:GREGORIAN
PRODID:https://kalender.karlsruhe.de/db/termine/
METHOD:PUBLISH
BEGIN:VEVENT
UID:578708
ORGANIZER;CN=TanzAreal Karlsruhe:MAILTO:info@tanzareal.de
LOCATION:TanzAreal Karlsruhe
SUMMARY:Workshop von cie .los
DESCRIPTION;ENCODING=QUOTED-PRINTABLE:Stretch your fantasy: under construction =E2=80=93 improvisation techniques
 =0D=0A=0D=0A  cie .los (Katrin und Klaut) laden in ihrem Workshop dazu ein\, Bewegun
 gsmaterial aus ihrer aktuellen Produktion =E2=80=9Eunder construction=E2=80
 =9C mit euch zu teilen. In dem St=C3=BCck setzen sich die Beiden mit der Fr
 age auseinander\, wie wir in einer Welt\, in der die Zukunft vorprogrammiert 
 scheint und f=C3=BCr die meisten d=C3=BCster get=C3=B6nt ist\, unsere Vorste
 llungskraft dahin bewegen k=C3=B6nnen etwas Anderes zu denken. Wie k=C3=B6n
 nen wir durch ungewohnte Wege unsere Muster unterbrechen\, innehalten und Ra
 um schaffen f=C3=BCr Alternativen? Wie wir im Probeprozess diese Fragen mit
  dem K=C3=B6rper als unserem Material verhandeln\, zeigen wir euch im Worksh
 op: Von Kipppunkten\, Pausensetzung\, St=C3=B6rimpulsen und Synchronisierungs
 arbeiten finden wir Wege zu einer Polyphonie der K=C3=B6rper\, Stimmen und F
 antasien. F=C3=BCr alle\, die Lust auf Strategien der Improvisation und das 
 Spiel mit dem stetig Unfertigen haben. Open Level!    Unter dem Namen cie .
 los entstehen St=C3=BCcke von Katrin Panitz und Klaut. In der Kollaboration
  laufen Choreographie\, Dramaturgie\, Produktionsleitung und das Eintreten f
 =C3=BCr Tanz als widerspenstige Kunstform zusammen. Die erste gemeinsame Pr
 oduktion von Katrin und Klaut mit dem Titel =E2=80=9ETakt der Arbeitslosigk
 eit=E2=80=9C m=C3=BCndete 2019 in die Gr=C3=BCndung von takt.los konnektiv.
  Nach mehrj=C3=A4hriger kollektiver Zusammenarbeit in dieser Konstellation 
 blieb das Duo als dauerhafte Struktur bestehen. Im Austausch mit verschiede
 nen Mitstreiter*innen bewegen Katrin und Klaut Themen rund um die Materiali
 t=C3=A4t und =C3=84sthetik von K=C3=B6rpern in dieser Welt. Die gesellschaf
 ts- und b=C3=BChnenkritische Arbeitsweise von cie .los wirkt sich nicht nur
  auf Inhalte und Formen ihrer Produktionen aus\, sondern beeinflusst auch de
 ren Entstehungsprozesse.           INFO:        -Level: Open Level       -O
 rt: TanzAreal Karlsruhe       -Bitte bringt euch bequeme Kleidung und Wasse
 r mit       -Teilnahmegeb=C3=BChr: 30-45 Euro je nach eigenen Ressourcen   
         -Anmeldungen: bis=C2=A022.04.2026=C2=A0an=C2=A0workshop@tanzareal.d
 e     =20
URL:https://kalender.karlsruhe.de/db/termine/theater/workshop_von_cie_los
CLASS:PUBLIC
DTSTART:20260425T140000
DTEND:20260425T170000
DTSTAMP:20260410T095735
CATEGORIES:Theater, Tanz
ATTACH:https://kalender.karlsruhe.de/db/termine/theater/workshop_von_cie_los/file/icon_Stretch your fantasy_cie_los_Foto Chiara Bellamoli.jpg
END:VEVENT

END:VCALENDAR
