BEGIN:VCALENDAR
VERSION:2.0
CALSCALE:GREGORIAN
PRODID:https://kalender.karlsruhe.de/db/termine/
METHOD:PUBLISH
BEGIN:VEVENT
UID:579818
ORGANIZER;CN=Improtheater Karlsruhe:MAILTO:hello@improtheater-karlsruhe.com
LOCATION:marotte Theater
SUMMARY:Yes, and - Chef!
DESCRIPTION;ENCODING=QUOTED-PRINTABLE:Improtheater-Show=0D=0A=0D=0A  "Yes\, and =E2=80=93 Chef!" ist ein improvisiertes Th
 eaterformat =C3=BCber den Alltag einer Profik=C3=BCche: =C3=BCber gnadenlos
 en Zeitdruck\, Hierarchien und die gro=C3=9Fe Leidenschaft f=C3=BCr gutes Es
 sen. Wenn der Service beginnt\, bleibt keine Luft zum Atmen =E2=80=93 nur Fo
 kus\, Vertrauen und das gemeinsame Ziel\, etwas Gro=C3=9Fartiges auf den Tell
 er zu bringen.  =0D=0A  =0D=0A  Zwischen hei=C3=9Fen Pfannen und lauten Ansagen ent
 falten sich Beziehungen: Loyalit=C3=A4t und Rivalit=C3=A4t\, N=C3=A4he und K
 onflikt\, Zusammenhalt und =C3=9Cberforderung. Das Publikum erlebt hautnah\, 
 wie Kochen Menschen antreibt\, zusammenschwei=C3=9Ft =E2=80=93 und an ihre G
 renzen bringt.  =0D=0A  =0D=0A  Eine Show =C3=BCber Essen als Kunst und als Knochen
 job.  =0D=0A  =C3=9Cber Stress\, Stolz und die Frage\, warum man sich das alles f
 reiwillig antut.   =20
URL:https://kalender.karlsruhe.de/db/termine/theater/yes_and_chef
CLASS:PUBLIC
DTSTART:20260731T200000
DTEND:
DTSTAMP:20260306T094751
CATEGORIES:Theater, Tanz
ATTACH:https://kalender.karlsruhe.de/db/termine/theater/yes_and_chef/file/icon_Sommerfest _Impro.jpg
END:VEVENT

END:VCALENDAR
