BEGIN:VCALENDAR
VERSION:2.0
CALSCALE:GREGORIAN
PRODID:https://kalender.karlsruhe.de/db/termine/
METHOD:PUBLISH
BEGIN:VEVENT
UID:580113
ORGANIZER;CN=Badisches Staatstheater Karlsruhe:MAILTO:kartenservice@staatstheater.karlsruhe.de
LOCATION:Staatstheater, siehe Beschreibung
SUMMARY:Zukunft ist jetzt: EINE BÜRGERVERSAMMLUNG  (Vorstellung auf Deutsch) von Andy Smith (Und jetzt! Wochen der Nachhaltigkeit)
DESCRIPTION;ENCODING=QUOTED-PRINTABLE:=C2=A0=0D=0A=0D=0A
URL:https://kalender.karlsruhe.de/db/termine/theater/zukunft_ist_jetzt_eine_burgerversammlung
CLASS:PUBLIC
DTSTART:20260613T150000
DTEND:
DTSTAMP:20260316T175538
CATEGORIES:Theater, Tanz
ATTACH:https://kalender.karlsruhe.de/db/termine/theater/zukunft_ist_jetzt_eine_burgerversammlung/file/icon_BSK_Logo_Theater_mit_Schutzraum.jpg
END:VEVENT

END:VCALENDAR
