BEGIN:VCALENDAR
VERSION:2.0
CALSCALE:GREGORIAN
PRODID:https://kalender.karlsruhe.de/db/termine/
METHOD:PUBLISH
BEGIN:VEVENT
UID:577630
ORGANIZER;CN=Klimabündnis:MAILTO:info@klimabuendnis-karlsruhe.de
LOCATION:Kulturzentrum Tollhaus
SUMMARY:ZUKUNFT IST JETZT: HINTERLASSENSCHAFT
DESCRIPTION;ENCODING=QUOTED-PRINTABLE:ZUKUNFT IST JETZT ist eine Veranstaltungsreihe von Tollhaus\, Klimab=C3=BCnd
 nis & Klima-Aktion Karlsruhe. Das ganze Programm: https://www.tollhaus.de/z
 ukunft-ist-jetzt/=0D=0A=0D=0A  Zwischen Kirschen im Glas\, ein mit Erwartungen gef
 =C3=BClltem Bankkonto und der Nase eines unbekannten Vaters entsteht ein Ha
 us voller Dinge. Hinterlassenschaft verhandelt Erinnerungen\, B=C3=BCrokrati
 e und Ungleichheit: Wer erbt\, wer bleibt au=C3=9Fen vor? Durch biografisch-
 fiktionale Erz=C3=A4hlungen entsteht ein performatives Testament =E2=80=93 
 eine Einladung zu Reflexion\, Aushandlung und Umverteilung von notsopretty (
 Anna J=C3=BAlia Amaral\, Marcel Nascimento\, Nina Weber).    Dienstag\, 21.04.
 2026\, 20-21 Uhr\, Theater\, auf Deutsch mit englischen =C3=9Cbertiteln und in
 tegrierter-k=C3=BCnstlerischer Audiodeskription    Tickets f=C3=BCr HINTERL
 ASSENSCHAFT: https://tickets.tollhaus.de/produkte/89822-tickets-hinterlasse
 nschaft-kulturzentrum-tollhaus-karlsruhe-am-21-04-2026 =20
URL:https://kalender.karlsruhe.de/db/termine/theater/zukunft_ist_jetzt_hinterlassenschaft
CLASS:PUBLIC
DTSTART:20260421T200000
DTEND:20260421T210000
DTSTAMP:20260107T121534
CATEGORIES:Theater, Tanz
ATTACH:https://kalender.karlsruhe.de/db/termine/theater/zukunft_ist_jetzt_hinterlassenschaft/file/icon_20260421_notsopretty_hinterlassenschaft_bildmarke_1070x600_1766141191.jpg
END:VEVENT

END:VCALENDAR
