BEGIN:VCALENDAR
VERSION:2.0
CALSCALE:GREGORIAN
PRODID:https://kalender.karlsruhe.de/db/termine/
METHOD:PUBLISH
BEGIN:VEVENT
UID:581013
ORGANIZER;CN=PLANET KA Planetarium Karlsruhe gGmbH:MAILTO:info@planet-ka.de
LOCATION:PLANET KA Planetarium Karlsruhe
SUMMARY:100 Jahre Ewigkeit
DESCRIPTION;ENCODING=QUOTED-PRINTABLE:Zur Kulturgeschichte des Planetariums im 100. Jahr seines Bestehens=0D=0A=0D=0A    
 =0D=0A        "100 Jahre Ewigkeit" - zur Kulturgeschichte des Planetariums     
    =0D=0A   *** Centennial der Planetarien weltweit: 1925 - 2025 ***      =0D=0A   
  Kaum etwas hat die Zivilisationsgeschichte so bestimmt wie die Auseinander
 setzung des Menschen mit dem Himmel. Davon zeugen megalithische Steinkreise
  ebenso wie die astronomischen Urspr=C3=BCnge der Wissenschaft im antiken G
 riechenland oder die technischen Verfahren der modernen Hochseenavigation. 
 Selbst vorgeschichtliche Fundst=C3=A4tten erz=C3=A4hlen von der bedeutenden
  Rolle des Himmels f=C3=BCr die Menschen\, sei es f=C3=BCr den praktischen L
 ebensalltag oder als generationen=C3=BCbergreifender Speicher f=C3=BCr myth
 ologische Vorstellungswelten.    Das Planetarium ist die moderne Repr=C3=A4
 sentation einer weit zur=C3=BCckreichenden Reihe von Orten und Erfindungen\,
  die der Auseinandersetzung des Menschen mit dem gestirnten Himmel und des 
 ihn umgebenden Kosmos dienten. Anl=C3=A4sslich des hundertj=C3=A4hrigen Jub
 il=C3=A4ums der Erfindung des Projektionsplanetariums begeben wir uns auf e
 ine gro=C3=9Fe Reise\, die Ihren Anfang in den fr=C3=BChen Kulturen der Mens
 chheit nimmt und in etwa 35 Minuten entlang eines sich st=C3=A4ndig wandeln
 den Bildes vom Himmel am Ende zum modernen Sterntheater f=C3=BChrt.    =0D=0A  
   Zur Veranstaltung geh=C3=B6rt auch das Live-Erlebnis des Himmels und das 
 Weltalls\, wie es nur unter der Kuppel des Sterntheaters m=C3=B6glich ist: W
 ir pr=C3=A4sentieren zu Beginn den aktuellen Sternenhimmel =C3=BCber Karlsr
 uhe    =0D=0A      =C3=9Cbrigens: PLANET KA wurde am 7. Mai 2025 er=C3=B6ffnet 
 - auf den Tag genau 100 Jahre nach Er=C3=B6ffnung des weltweit ersten Plane
 tariums in M=C3=BCnchen      =0D=0A    Konzept\, Text und Regie: Tobias Wiethoff
     Dauer ca. 60 Minuten.    Das Programm richtet sich vornehmlich an Erwac
 hsene.  =0D=0A  Ggf. aber auch geeignet f=C3=BCr sehr interessierte Kinder ab e
 twa 12 J. und Jugendliche    =0D=0A    Einlass: ab ca. 30 Min. vor Beginn.  =0D=0A 
     Bitte beachten: Kein Nacheinlass m=C3=B6glich!       =0D=0A        Ungenutz
 te Tickets verfallen ersatzlos.   =20
URL:https://kalender.karlsruhe.de/db/termine/wirtschaft/100_jahre_ewigkeit-13
CLASS:PUBLIC
DTSTART:20260506T190000
DTEND:
DTSTAMP:20260420T110448
CATEGORIES:Wirtschaft, Wissenschaft
ATTACH:https://kalender.karlsruhe.de/db/termine/wirtschaft/100_jahre_ewigkeit-13/file/icon_100je-titeljpg.jpg
END:VEVENT

END:VCALENDAR
