BEGIN:VCALENDAR
VERSION:2.0
CALSCALE:GREGORIAN
PRODID:https://kalender.karlsruhe.de/db/termine/
METHOD:PUBLISH
BEGIN:VEVENT
UID:576115
ORGANIZER;CN=Astronomische Vereinigung Karlsruhe:MAILTO:mail@avka.de
LOCATION:Sternwarte Karlsruhe
SUMMARY:Beobachtungsabend der Astronomischen Vereinigung Karlsruhe
DESCRIPTION;ENCODING=QUOTED-PRINTABLE:Die Astronomische Vereinigung Karlsruhe betreibt die Sternwarte Karlsruhe a
 uf dem Max-Planck-Gymnasium in R=C3=BCppurr. Die Sternwarte ist nur ge=C3
 =B6ffnet\, wenn das Wetter Beobachtungen erlaubt. Sie finden am Veranstaltun
 gstag ab 18 Uhr die aktuelle Information\, ob die Sternwarte ge=C3=B6ffnet i
 st\, auf der Homepage der AVKA. Eine Anmeldung vorab unter www.avka.de ist e
 rforderlich!=0D=0A=0D=0A  Die Astronomische Vereinigung Karlsruhe betreibt die Ster
 nwarte Karlsruhe auf dem Max-Planck-Gymnasium in R=C3=BCppurr.     Die Ster
 nwarte ist nur ge=C3=B6ffnet\, wenn das Wetter Beobachtungen erlaubt.    Sie
  finden am Veranstaltungstag ab 18 Uhr die aktuelle Information\, ob die Ste
 rnwarte ge=C3=B6ffnet ist\, auf der Homepage der AVKA.     Eine Anmeldung vo
 rab unter www.avka.de ist erforderlich!      Zu Beginn =C3=B6ffnen wir den 
 Spalt der Kuppel damit die warme Luft entweichen kann. In dieser Zeit wird 
 die Sternwarte vorgestellt. Wir erz=C3=A4hlen kurz die Historie des Refrakt
 ors und gehen auf einige technische Details wie die mechanische Nachf=C3=BC
 hrung ein. Die astronomischen Objekte werden eingestellt und k=C3=B6nnen vo
 n den Besuchern mit dem Auge am Okular beobachtet werden. Bitte beachten Si
 e\, dass Sie dazu am historischen Refraktor einige Tritte hoch steigen m=C3
 =BCssen\, was z.B. mit einer Gehhilfe nicht m=C3=B6glich ist.    Parallel da
 zu stehen auch die Teleskope im Au=C3=9Fenbereich zur visuellen Beobachtung
 \, aber auch zur "elektronisch unterst=C3=BCtzten" Astronomie (EAA\, electron
 ically assisted astronomy) mittels Live Kamera zur Verf=C3=BCgung.    W=C3
 =A4hrend der Beobachtung erkl=C3=A4ren wir das Objekt und geben allgemeine 
 Erl=C3=A4uterungen zum Beispiel =C3=BCber den entsprechenden Objekttyp wie 
 Planetarischer Nebel oder Kugelsternhaufen. Nat=C3=BCrlich beantworten wir 
 auch Ihre Fragen zum jeweiligen Objekt sowie zur Astronomie allgemein. Auch
  f=C3=BCr Fragen zum Hobby Astronomie und zu Teleskopen stehen wir zur Verf
 =C3=BCgung.    Die Veranstaltung ist f=C3=BCr     Kinder ab sechs Jahren   
  geeignet welche wir     sehr gerne willkommen hei=C3=9Fen    . Eltern sind
  f=C3=BCr die Sicherheit Ihrer Kinder selbst verantwortlich. Speisen und Ge
 tr=C3=A4nke bieten wir leider nicht an. In der Kuppel kann es sehr kalt wer
 den. Bitte bringen Sie geeignete Kleidung mit.  =0D=0A =20
URL:https://kalender.karlsruhe.de/db/termine/wirtschaft/beobachtungsabend_der_astronomischen-38
CLASS:PUBLIC
DTSTART:20260918T200000
DTEND:20260918T220000
DTSTAMP:20260302T084302
CATEGORIES:Wirtschaft, Wissenschaft
ATTACH:https://kalender.karlsruhe.de/db/termine/wirtschaft/beobachtungsabend_der_astronomischen-38/file/icon_b2284.jpg
END:VEVENT

END:VCALENDAR
