BEGIN:VCALENDAR
VERSION:2.0
CALSCALE:GREGORIAN
PRODID:https://kalender.karlsruhe.de/db/termine/
METHOD:PUBLISH
BEGIN:VEVENT
UID:576121
ORGANIZER;CN=Astronomische Vereinigung Karlsruhe:MAILTO:mail@avka.de
LOCATION:Sternwarte Karlsruhe
SUMMARY:Beobachtungsabend der Astronomischen Vereinigung Karlsruhe
DESCRIPTION;ENCODING=QUOTED-PRINTABLE:Die Astronomische Vereinigung Karlsruhe betreibt die Sternwarte Karlsruhe a
 uf dem Max-Planck-Gymnasium in R=C3=BCppurr. Die Sternwarte ist nur ge=C3
 =B6ffnet\, wenn das Wetter Beobachtungen erlaubt. Sie finden am Veranstaltun
 gstag die aktuelle Information\, ob die Sternwarte ge=C3=B6ffnet ist\, auf de
 r Homepage der AVKA. Eine Anmeldung vorab unter www.avka.de ist erforderlic
 h!=0D=0A=0D=0A  Die Astronomische Vereinigung Karlsruhe betreibt die Sternwarte Kar
 lsruhe auf dem Max-Planck-Gymnasium in R=C3=BCppurr.     Die Sternwarte ist
  nur ge=C3=B6ffnet\, wenn das Wetter Beobachtungen erlaubt.    Sie finden am
  Veranstaltungstag die aktuelle Information\, ob die Sternwarte ge=C3=B6ffne
 t ist\, auf der Homepage der AVKA.     Eine Anmeldung vorab unter www.avka.d
 e ist erforderlich!      Zu Beginn =C3=B6ffnen wir den Spalt der Kuppel dam
 it die warme Luft entweichen kann. In dieser Zeit wird die Sternwarte vorge
 stellt. Wir erz=C3=A4hlen kurz die Historie des Refraktors und gehen auf ei
 nige technische Details wie die mechanische Nachf=C3=BChrung ein. Die astro
 nomischen Objekte werden eingestellt und k=C3=B6nnen von den Besuchern mit 
 dem Auge am Okular beobachtet werden. Bitte beachten Sie\, dass Sie dazu am 
 historischen Refraktor einige Tritte hoch steigen m=C3=BCssen\, was z.B. mit
  einer Gehhilfe nicht m=C3=B6glich ist.    Parallel dazu stehen auch die Te
 leskope im Au=C3=9Fenbereich zur visuellen Beobachtung\, aber auch zur "elek
 tronisch unterst=C3=BCtzten" Astronomie (EAA\, electronically assisted astro
 nomy) mittels Live Kamera zur Verf=C3=BCgung.    W=C3=A4hrend der Beobachtu
 ng erkl=C3=A4ren wir das Objekt und geben allgemeine Erl=C3=A4uterungen zum
  Beispiel =C3=BCber den entsprechenden Objekttyp wie Planetarischer Nebel o
 der Kugelsternhaufen. Nat=C3=BCrlich beantworten wir auch Ihre Fragen zum j
 eweiligen Objekt sowie zur Astronomie allgemein. Auch f=C3=BCr Fragen zum H
 obby Astronomie und zu Teleskopen stehen wir zur Verf=C3=BCgung.    Die Ver
 anstaltung ist f=C3=BCr     Kinder ab sechs Jahren    geeignet welche wir  
    sehr gerne willkommen hei=C3=9Fen    . Eltern sind f=C3=BCr die Sicherhe
 it Ihrer Kinder selbst verantwortlich. Speisen und Getr=C3=A4nke bieten wir
  leider nicht an. In der Kuppel kann es sehr kalt werden. Bitte bringen Sie
  geeignete Kleidung mit.  =0D=0A =20
URL:https://kalender.karlsruhe.de/db/termine/wirtschaft/beobachtungsabend_der_astronomischen-44
CLASS:PUBLIC
DTSTART:20261218T190000
DTEND:20261218T210000
DTSTAMP:20260302T084304
CATEGORIES:Wirtschaft, Wissenschaft
ATTACH:https://kalender.karlsruhe.de/db/termine/wirtschaft/beobachtungsabend_der_astronomischen-44/file/icon_b2284.jpg
END:VEVENT

END:VCALENDAR
