BEGIN:VCALENDAR
VERSION:2.0
CALSCALE:GREGORIAN
PRODID:https://kalender.karlsruhe.de/db/termine/
METHOD:PUBLISH
BEGIN:VEVENT
UID:580833
ORGANIZER;CN=Karlsruher Institut für Technologie (VAM):MAILTO:event@kit.edu
LOCATION:Audimax, KIT Campus Süd, Straße am Forum 1, 76131 Karlsruhe
SUMMARY:CAMPUSTAG am KIT
DESCRIPTION;ENCODING=QUOTED-PRINTABLE:Erlebe deine Uni in Karlsruhe!=0D=0A=0D=0A  Am     Samstag\, 13. Juni 2026\,    ist e
 s wieder soweit! Beim     Campustag    hast Du die einmalige Gelegenheit\, d
 as KIT in all seinen spannenden und bunten Facetten kennenzulernen\, Dich 
 =C3=BCber unsere     Bachelor- und Masterstudieng=C3=A4nge    zu informiere
 n und auf ein Studium an Deiner Uni in Karlsruhe vorzubereiten.    Dich erw
 arten spannende Vortr=C3=A4ge\, echte Vorlesungen\, coole Videos und  F=C3=BC
 hrungen hinter die Kulissen unserer Forschung. Die Fakult=C3=A4ten =C3=B6ff
 nen  Labore und H=C3=B6rs=C3=A4le bis 15:00 Uhr.    Das alles findet auf de
 m KIT-Campus S=C3=BCd statt\, mit einer Er=C3=B6ffnung im  Audimax\, Geb. 30.
 95\, Stra=C3=9Fe am Forum 1. Im Foyer des Audimax findest Du  dann schon vie
 le Einrichtungen und Institute\, die sich n=C3=A4her vorstellen  und Dir vie
 le wichtige Infos geben k=C3=B6nnen.    Wer ins studentische Campusleben re
 inschnuppern m=C3=B6chte\, kann ab 15  Uhr noch beim "Summerrave" des AKK (A
 rbeitskreis Kultur und  Kommunikation der verfassten Studierendenschaft) au
 f dem Roten Platz  feiern.    =0D=0A =20
URL:https://kalender.karlsruhe.de/db/termine/wirtschaft/campustag_am_kit
CLASS:PUBLIC
DTSTART:20260613T100000
DTEND:20260613T150000
DTSTAMP:20260413T100416
CATEGORIES:Wirtschaft, Wissenschaft
ATTACH:https://kalender.karlsruhe.de/db/termine/wirtschaft/campustag_am_kit/file/icon_Website-Grafiken_CampusTag_V2_Header-Startseite Kopie 6.jpg
END:VEVENT

END:VCALENDAR
