BEGIN:VCALENDAR
VERSION:2.0
CALSCALE:GREGORIAN
PRODID:https://kalender.karlsruhe.de/db/termine/
METHOD:PUBLISH
BEGIN:VEVENT
UID:578986
ORGANIZER;CN=Pädagogische Hochschule Karlsruhe (PHKA):MAILTO:poststelle@ph-karlsruhe.de
LOCATION:Pädagogische Hochschule Karlsruhe (PHKA)
SUMMARY:dieS-Sommerschule 2026
DESCRIPTION;ENCODING=QUOTED-PRINTABLE:Vernetzte Schreibdidaktik=0D=0A=0D=0A  =0D=0A    Thema der dieS-Sommerschule 2026 sind 
 die vielf=C3=A4ltigen Schnittstellen zwischen didaktisch-empirischer Schrei
 bforschung (dieS)\, Bildungswissenschaft\, Psychologie und digitalen Technolo
 gien. Im Fokus stehen interdisziplin=C3=A4re Perspektiven auf Schreibprozes
 se sowie die methodischen Anforderungen\, die sich aus der zunehmenden Kompl
 exit=C3=A4t von Daten\, KI-gest=C3=BCtzten Schreibumgebungen und kollaborati
 ven Praktiken ergeben.    Die dieS-Sommerschule 2026 findet vom 18. bis 20.
  Juni an der P=C3=A4dagogischen Hochschule Karlsruhe statt. Sie bietet ein 
 abwechslungsreiches Programm aus Vortr=C3=A4gen\, Methodenworkshops\, Diskuss
 ionsforen und Beratungskolloquien\, in denen quantitative und digitale Zug
 =C3=A4nge zur Schreibforschung vorgestellt und reflektiert werden. Themen w
 ie KI-Schreibprozesse\, multimodales Erz=C3=A4hlen oder kollaboratives Schre
 iben im Fachunterricht er=C3=B6ffnen dabei aktuelle Einblicke in die Breite
  und Dynamik der empirischen Schreibdidaktik.    Eine Besonderheit in diese
 m Jahr ist die neue Open Science Session. Hier haben Qualifikand:innen alle
 r Karrierephasen =E2=80=93 von der Promotionsidee bis zum Postdoc-Projekt 
 =E2=80=93 die M=C3=B6glichkeit\, ihre Forschung in Kurzvortr=C3=A4gen\, Data 
 Sessions oder Methodenimpulsen vorzustellen. Die Open Science Session schaf
 ft Raum f=C3=BCr Austausch\, Feedback\, Ko-Konstruktion und Sichtbarkeit von 
 Forschungsprozessen und st=C3=A4rkt damit die Vernetzung innerhalb der Comm
 unity.    Die dieS-Sommerschule richtet sich an alle interessierten Wissens
 chaftler:innen\, besonders aber an Promovierende und Postdocs\, die ihre Proj
 ekte weiterentwickeln\, methodische Sicherheit gewinnen und interdisziplin
 =C3=A4re Anschlussstellen entdecken m=C3=B6chten. =20
URL:https://kalender.karlsruhe.de/db/termine/wirtschaft/dies_sommerschule2026n
CLASS:PUBLIC
DTSTART:20260618T160000
DTEND:20260620T140000
DTSTAMP:20260217T083657
CATEGORIES:Wirtschaft, Wissenschaft
ATTACH:https://kalender.karlsruhe.de/db/termine/wirtschaft/dies_sommerschule2026n/file/icon_PHKA-Sommerschule dieS 2026.jpg
END:VEVENT

END:VCALENDAR
