BEGIN:VCALENDAR
VERSION:2.0
CALSCALE:GREGORIAN
PRODID:https://kalender.karlsruhe.de/db/termine/
METHOD:PUBLISH
BEGIN:VEVENT
UID:580924
ORGANIZER;CN=Wissenschaftsbüro der Wirtschaftsförderung Karlsruhe:MAILTO:info@wissenschaftsbuero.karlsruhe.de
LOCATION:TRIANGEL Transfer | Kultur | Raum
SUMMARY:digiTALK: Wer sieht dich wirklich?
DESCRIPTION;ENCODING=QUOTED-PRINTABLE:Digitaler Alltag zwischen Komfort\, Kontrolle und Datenmacht=0D=0A=0D=0A  "Wer sieht
  dich wirklich? Digitaler Alltag zwischen Komfort\, Kontrolle und Datenmacht
 "    Dieser Frage gehen wir am 21. Mai beim n=C3=A4chsten digiTALK nach.   
  Die Erfassung und Nutzung pers=C3=B6nlicher Daten ist l=C3=A4ngst Teil uns
 eres Alltags geworden\, oft ohne dass wir es bewusst wahrnehmen. Algorithmen
  beeinflussen\, welche Inhalte wir auf Social Media sehen\, welche Produkte u
 ns vorgeschlagen werden und wie wir mit digitalen Systemen interagieren. Gl
 eichzeitig entwickeln sich KI-Anwendungen rasant weiter und sind nicht mehr
  schlichte Dienstleister\, sondern zunehmend auch pers=C3=B6nliche Vertraute
 \, in manchen F=C3=A4llen vielleicht sogar Freund*innen. Parallel nutzen sta
 atliche Akteure verst=C3=A4rkt datenbasierte Systeme KI-System wie Palantir
  bei der Ausf=C3=BChrung von Polizeiarbeit.    Vor diesem Hintergrund laden
  wir euch in den TRIANGEL Transfer | Kultur | Raum ein. Gemeinsam mit Partn
 ern aus Wissenschaft und Praxis werfen wir in drei Impulsen einen differenz
 ierten Blick auf allt=C3=A4gliche digitale =C3=9Cberwachung und Datensammlu
 ng. Wir sprechen =C3=BCber den Einsatz datengetriebener Software in der Pol
 izeiarbeit\, zeigen\, wie allt=C3=A4gliche Technologien wie WLAN zur Analyse 
 und Nachverfolgung genutzt werden k=C3=B6nnen\, und gehen der Frage nach\, wi
 e digitale Identit=C3=A4ten entstehen\, gesch=C3=BCtzt werden k=C3=B6nnen un
 d wo ihre Verwundbarkeit liegt.    Im Anschluss =C3=B6ffnen wir die Diskuss
 ion. Welche Perspektiven fehlen? Wo liegen Chancen\, wo Risiken? Bringt eure
  Fragen und Erfahrungen mit und diskutiert mit uns und unseren Expert*innen
 .    Wir freuen uns auf den Austausch am 21. Mai im TRIANGEL. =20
URL:https://kalender.karlsruhe.de/db/termine/wirtschaft/digitalk_wer_sieht_dich_wirklich
CLASS:PUBLIC
DTSTART:20260521T190000
DTEND:
DTSTAMP:20260420T110514
CATEGORIES:Wirtschaft, Wissenschaft
ATTACH:https://kalender.karlsruhe.de/db/termine/wirtschaft/digitalk_wer_sieht_dich_wirklich/file/icon_DigitalTalk_EFFEKTE_Triangel_2025_JürgenRösner_0009.jpg
END:VEVENT

END:VCALENDAR
