BEGIN:VCALENDAR
VERSION:2.0
CALSCALE:GREGORIAN
PRODID:https://kalender.karlsruhe.de/db/termine/
METHOD:PUBLISH
BEGIN:VEVENT
UID:578927
ORGANIZER;CN=Wissenschaftsbüro der Wirtschaftsförderung der Stadt Karlsruhe:MAILTO:
LOCATION:Kulturzentrum Tollhaus
SUMMARY:FameLab – Talking Science
DESCRIPTION;ENCODING=QUOTED-PRINTABLE:Wissenschaftswettbewerb | Vorentscheid S=C3=BCdwest in Karlsruhe=0D=0A=0D=0A  FameL
 ab =E2=80=93 Talking Science: Aus dem Labor auf die B=C3=BChne!    Wer bege
 istert mit Wissenschaft in nur drei Minuten? Am 8. Mai 2026 pr=C3=A4sentier
 en beim s=C3=BCdwestdeutschen FameLab-Regionalvorentscheid die besten Nachw
 uchswissenschaftler*innen ihre Forschung live auf der gro=C3=9Fen B=C3=BChn
 e im Kulturzentrum Tollhaus in Karlsruhe spannend\, verst=C3=A4ndlich und mi
 trei=C3=9Fend.    FameLab ist der internationale Wettbewerb f=C3=BCr Wissen
 schaftskommunikation: Die Kandidat*innen haben exakt drei Minuten Zeit\, um 
 Publikum und Jury von ihrem Thema zu =C3=BCberzeugen =E2=80=93 sachlich kor
 rekt\, kreativ und unterhaltsam. Komplexe Inhalte werden hier so auf den Pun
 kt gebracht\, dass wirklich jede*r folgen kann. Langweilige PowerPoint-Vortr
 =C3=A4ge? Fehlanzeige. Erlaubt sind nur Requisiten\, die am K=C3=B6rper getr
 agen werden k=C3=B6nnen. Daf=C3=BCr gibt es umso mehr Ideenreichtum\, Tempo 
 und Spa=C3=9F. Jedes Jahr zeigen junge Wissenschaftstalente in ganz Deutsch
 land\, wie packend Forschung sein kann.    Die besten zwei Teilnehmenden qua
 lifizieren sich f=C3=BCr das FameLab-Deutschlandfinale in Bielefeld und k
 =C3=A4mpfen dort um den Einzug ins internationale Finale. Ein Abend im Toll
 haus voller Aha-Momente =E2=80=93 und der Eintritt ist frei.    =0D=0A =20
URL:https://kalender.karlsruhe.de/db/termine/wirtschaft/famelab_talking_science
CLASS:PUBLIC
DTSTART:20260508T190000
DTEND:
DTSTAMP:20260212T100336
CATEGORIES:Wirtschaft, Wissenschaft
ATTACH:https://kalender.karlsruhe.de/db/termine/wirtschaft/famelab_talking_science/file/icon_FameLab_2025_JürgenRösner_0139.jpg
END:VEVENT

END:VCALENDAR
