BEGIN:VCALENDAR
VERSION:2.0
CALSCALE:GREGORIAN
PRODID:https://kalender.karlsruhe.de/db/termine/
METHOD:PUBLISH
BEGIN:VEVENT
UID:580649
ORGANIZER;CN=Wissenschaftsbüro:MAILTO:wissenschaftsbuero@karlsruhe.de
LOCATION:Tollhaus Karlsruhe 
SUMMARY:FameLab Talking Science: Aus dem Labor auf die Bühne!
DESCRIPTION;ENCODING=QUOTED-PRINTABLE:FameLab Vorentscheid S=C3=BCdwestdeutschland Karlsruhe=0D=0A=0D=0A    Wer begeister
 t mit Wissenschaft in nur drei Minuten? Am 8. Mai 2026 pr=C3=A4sentieren be
 im s=C3=BCdwestdeutschen FameLab-Regionalvorentscheid die besten Nachwuchsw
 issenschaftler*innen ihre Forschung live auf der gro=C3=9Fen B=C3=BChne im 
 Kulturzentrum Tollhaus in Karlsruhe verst=C3=A4ndlich und mitrei=C3=9Fend. 
        FameLab ist der internationale Wettbewerb f=C3=BCr Wissenschaftskomm
 unikation: Die Kandidat*innen haben exakt drei Minuten Zeit\, um Publikum un
 d Jury von ihrem Thema zu =C3=BCberzeugen - sachlich korrekt\, kreativ und u
 nterhaltsam. Komplexe Inhalte werden hier so auf den Punkt gebracht\, dass w
 irklich jede*r folgen kann. Langweilige PowerPoint-Vortr=C3=A4ge? Fehlanzei
 ge. Erlaubt sind nur Requisiten\, die selbst auf die B=C3=BChne getragen wer
 den k=C3=B6nnen. Das sorgt f=C3=BCr umso mehr Ideenreichtum\, Tempo und Spa
 =C3=9F. Jedes Jahr zeigen junge Wissenschaftstalente bei den Vorentscheiden
  in ganz Deutschland\, wie packend Forschung sein kann. Die besten zwei Teil
 nehmenden qualifizieren sich f=C3=BCr das FameLab-Deutschlandfinale in Biel
 efeld und k=C3=A4mpfen dort um den Einzug ins internationale Finale.       
  Ein Abend im Tollhaus voller Aha-Momente! Eintritt frei.        Die Organi
 sation der Veranstaltung =C3=BCbernimmt das Wissenschaftsb=C3=BCro der Wirt
 schaftsf=C3=B6rderung der Stadt Karlsruhe.        Weitere Informationen unt
 er          www.famelab-ka.de          .          Veranstalter        =0D=0A   
 Wissenschaftsb=C3=BCro   =0D=0A   Wirtschaftsf=C3=B6rderung   =0D=0A   Stadt Karlsr
 uhe   =0D=0A   Z=C3=A4hringerstra=C3=9Fe 65a   =0D=0A   76133 Karlsruhe   =0D=0A   E-Ma
 il: wissenschaftsbuero@karlsruhe.de          Veranstaltungsort ist das Kult
 urzentrum Tollhaus          TOLLHAUS Karlsruhe - Freier Kulturverein e.    
   V.        =0D=0A        Alter Schlachthof 35   =0D=0A   76131 Karlsruhe        In
 fo-Website:            www.famelab-ka.de              Datum/Uhrzeit        
   08.05.2026 19-22 Uhr   =20
URL:https://kalender.karlsruhe.de/db/termine/wirtschaft/famelab_talking_science_aus_dem_labor_auf_die_buhne-1
CLASS:PUBLIC
DTSTART:20260508T190000
DTEND:20260508T220000
DTSTAMP:20260402T092249
CATEGORIES:Wirtschaft, Wissenschaft
ATTACH:https://kalender.karlsruhe.de/db/termine/wirtschaft/famelab_talking_science_aus_dem_labor_auf_die_buhne-1/file/icon_FameLab 2023_Jürgen Rösner (98)_komprimiert.jpg
END:VEVENT

END:VCALENDAR
