BEGIN:VCALENDAR
VERSION:2.0
CALSCALE:GREGORIAN
PRODID:https://kalender.karlsruhe.de/db/termine/
METHOD:PUBLISH
BEGIN:VEVENT
UID:581025
ORGANIZER;CN=PLANET KA Planetarium Karlsruhe gGmbH:MAILTO:info@planet-ka.de
LOCATION:PLANET KA Planetarium Karlsruhe
SUMMARY:Geheimnis Dunkle Materie
DESCRIPTION;ENCODING=QUOTED-PRINTABLE:Auf der Suche nach den Bausteinen des Kosmos  Rund 95 % des Universums best
 ehen aus =E2=80=9CDunkler Materie=E2=80=9D und =E2=80=9CDunkler Energie=E2
 =80=9D =E2=80=93 mysteri=C3=B6sen Substanzen\, die wir nicht bis heute nicht
  verstehen.=0D=0A=0D=0A  Das Universum besteht zu fast einem Viertel aus Dunkler Ma
 terie. Doch was ist Dunkle Materie? Man kann sie nicht sehen\, wie wird sie 
 also erforscht?    Dunkle Materie wirkt =C3=BCber ihre Schwerkraft. Folgen 
 Sie den Wissenschaftlerinnen und Wissenschaftlern bei der Jagd nach den Bau
 steinen des Kosmos in die Weiten des Weltalls und zu Experimenten bis tief 
 unter der Erde. Wird es gelingen\, das Mysterium der Dunklen Materie zu ents
 chl=C3=BCsseln?    Produktion: Planetarium Laupheim  =0D=0A  Dauer der Veransta
 ltung ca. 1 Stunde.  =0D=0A  =0D=0A    Empfohlen f=C3=BCr Erwachsene. Geeignet ab e
 twa 10 Jahren.    Einlass: ca. 30 Minuten vor Beginn\;     kein Nacheinlass!
     =0D=0A  Ungenutzte Tickets verfallen ersatzlos.                Aufgrund der
  begrenzten Platzzahl empfehlen wir die Buchung vorab per Online-Ticket.  $
 $  Restkarten an der Abendkasse nur nach Verf=C3=BCgbarkeit - keine Einlass
 garantie! =20
URL:https://kalender.karlsruhe.de/db/termine/wirtschaft/geheimnis_dunkle_materie-10
CLASS:PUBLIC
DTSTART:20260509T210000
DTEND:
DTSTAMP:20260420T110452
CATEGORIES:Wirtschaft, Wissenschaft
ATTACH:https://kalender.karlsruhe.de/db/termine/wirtschaft/geheimnis_dunkle_materie-10/file/icon_A_Horseshoe_Einstein_Ring_from_Hubble.jpg
END:VEVENT

END:VCALENDAR
