BEGIN:VCALENDAR
VERSION:2.0
CALSCALE:GREGORIAN
PRODID:https://kalender.karlsruhe.de/db/termine/
METHOD:PUBLISH
BEGIN:VEVENT
UID:580983
ORGANIZER;CN=Studium Generale. Forum Wissenschaft und Gesellschaft (FORUM):MAILTO:info@forum.kit.edu
LOCATION:InformatiKOM, KIT Campus Süd
SUMMARY:Kann man Moralisierung messen? KI-gestützte Analysen öffentlicher Debatten
DESCRIPTION;ENCODING=QUOTED-PRINTABLE:Colloquium Fundamentale: Mit erhobenem Zeigefinger? Wenn Moral den Diskurs 
 bestimmt=0D=0A=0D=0A    Dr. Maria Becker   =0D=0A    Germanistisches Seminar an der Uni
 versit=C3=A4t Heidelberg    Moralisierungen pr=C3=A4gen =C3=B6ffentliche De
 batten zunehmend\, von Klimaschutz  =C3=BCber Migration bis hin zu Gesundhei
 tspolitik. Doch l=C3=A4sst sich dieses  Ph=C3=A4nomen =C3=BCberhaupt messen
  =E2=80=93 und wenn ja\, wie? Der Vortrag zeigt\, wie  Methoden der K=C3=BCns
 tlichen Intelligenz und der automatischen  Sprachverarbeitung dabei helfen 
 k=C3=B6nnen\, moralisch aufgeladene Sprache in  gro=C3=9Fen Textmengen sicht
 bar zu machen. Anhand von Beispielen aus  sozialen Medien und politischen D
 iskursen wird erl=C3=A4utert\, wie  sprachliche Muster\, Werturteile und emot
 ionale Zuspitzungen automatisch  erkannt und analysiert werden k=C3=B6nnen.
  Dabei wird auch diskutiert\, welche  Grenzen solche Verfahren haben und wie
  sie verantwortungsvoll  eingesetzt werden k=C3=B6nnen. Ziel ist es\, ein be
 sseres Verst=C3=A4ndnis daf=C3=BCr zu  vermitteln\, wie sich gesellschaftlic
 he Debatten ver=C3=A4ndern =E2=80=93 und wie wir  diese Ver=C3=A4nderungen 
 wissenschaftlich erfassen k=C3=B6nnen.    Das Colloquium Fundamentale widme
 t sich im Sommersemester 2026 den  Chancen und Risiken von Moralisierungen 
 in =C3=B6ffentlichen  Auseinandersetzungen und findet im Rahmen des BMFTR-g
 ef=C3=B6rderten Projektes MoWiKo  (Moralisierungen in der Wissenschaftskomm
 unikation =E2=80=93 Ursachen\, Formen  und Wirkungen) statt. Im Mittelpunkt 
 steht die Frage\, wie moralische  Bewertungen =C3=B6ffentliche Debatten\, die
  Redefreiheit und die  Wissenschaftsfreiheit beeinflussen und unter welchen
  Bedingungen sie zu  produktiver Kritik an Missst=C3=A4nden oder zu einer p
 roblematischen  Verengung des Diskurses werden. =20
URL:https://kalender.karlsruhe.de/db/termine/wirtschaft/kann_man_moralisierung_messen_ki_gestutzte
CLASS:PUBLIC
DTSTART:20260423T180000
DTEND:20260423T193000
DTSTAMP:20260420T110500
CATEGORIES:Wirtschaft, Wissenschaft
ATTACH:https://kalender.karlsruhe.de/db/termine/wirtschaft/kann_man_moralisierung_messen_ki_gestutzte/file/icon_260327_CF_SoSe26_Teaser700_3.jpg
END:VEVENT

END:VCALENDAR
