BEGIN:VCALENDAR
VERSION:2.0
CALSCALE:GREGORIAN
PRODID:https://kalender.karlsruhe.de/db/termine/
METHOD:PUBLISH
BEGIN:VEVENT
UID:580412
ORGANIZER;CN=Pädagogische Hochschule Karlsruhe (PHKA):MAILTO:poststelle@ph-karlsruhe.de
LOCATION:Rathaus am Marktplatz
SUMMARY:PHKA im Rathaus
DESCRIPTION;ENCODING=QUOTED-PRINTABLE:KI in der Bildung: Chancen gestalten =E2=80=93 Qualit=C3=A4t sichern=0D=0A=0D=0A  W
 er sich =C3=BCber aktuelle bildungswissenschaftliche Forschungsprojekte der
  P=C3=A4dagogischen Hochschule Karlsruhe (PHKA) informieren und mit Wissens
 chaftler:innen ins Gespr=C3=A4ch kommen m=C3=B6chte\, hat dazu bei der n=C3
 =A4chsten Auflage von =E2=80=9EPHKA im Rathaus=E2=80=9C am Donnerstag\, 23. 
 April\, Gelegenheit. Unter dem Titel =E2=80=9EKI in der Bildung: Chancen ges
 talten =E2=80=93 Qualit=C3=A4t sichern=E2=80=9C stehen im Rathaus am Marktp
 latz\, Karl-Friedrich-Stra=C3=9Fe 10\, 76133 Karlsruhe\, vier     Kurzvortr=C3
 =A4ge    \, eine     Posterausstellung    sowie     Mitmachangebote    auf d
 em Programm.    Beginn des rund eineinhalbst=C3=BCndigen Vortragsprogramms 
 ist um 18.00 Uhr. Hier geht es unter anderem um die Frage\, wie angehende Le
 hrkr=C3=A4fte auf den Einsatz von KI vorbereitet werden k=C3=B6nnen und wie
  sich KI als Dialogpartner im Deutschunterricht einsetzen l=C3=A4sst. Au=C3
 =9Ferdem vorgestellt werden der EdTech-Index\, ein Kompass f=C3=BCr digitale
  Bildungsma=C3=9Fnahmen\, sowie drei Forschungsprojekte\, bei denen es um die
  Implementierung von KI in k=C3=BCnstlerische Strategien und kunstp=C3=A4da
 gogische Konzepte geht.    Bereits ab 17.30 Uhr und im Anschluss an die Vor
 tr=C3=A4ge haben Besucher:innen Gelegenheit\, sich die Posterausstellung anz
 uschauen\, ein webbasiertes Tool auszuprobieren\, das Sch=C3=BCler:innen eine
 n spielerischen Einstieg in die Welt der KI erm=C3=B6glicht\, oder eine virt
 uelle Katzenklappe per KI-Anwendung zu trainieren.  Der Eintritt ist frei. 
    G=C3=A4ste\, die f=C3=BCr den Besuch der Veranstaltung Hilfsmittel oder U
 nterst=C3=BCtzung ben=C3=B6tigen (zum Beispiel Geb=C3=A4rdensprachverdolmet
 schung)\, wenden sich an angelika.rohsaint@ha.karlsruhe.de.    Weitere Infos
  zum Programm von =E2=80=9EPHKA im Rathaus=E2=80=9C am 23. April gibt es au
 f https://www.ph-karlsruhe.de/phka-im-rathaus. =20
URL:https://kalender.karlsruhe.de/db/termine/wirtschaft/phka_im_rathaus-2
CLASS:PUBLIC
DTSTART:20260423T180000
DTEND:20260423T193000
DTSTAMP:20260325T134948
CATEGORIES:Wirtschaft, Wissenschaft
ATTACH:https://kalender.karlsruhe.de/db/termine/wirtschaft/phka_im_rathaus-2/file/icon_PHKA_fuer Veranstaltungshinweis PHKA im Rathaus 2026_Regina Thelen.jpg
END:VEVENT

END:VCALENDAR
