BEGIN:VCALENDAR
VERSION:2.0
CALSCALE:GREGORIAN
PRODID:https://kalender.karlsruhe.de/db/termine/
METHOD:PUBLISH
BEGIN:VEVENT
UID:576126
ORGANIZER;CN=Astronomische Vereinigung Karlsruhe:MAILTO:mail@avka.de
LOCATION:Auerbach-Saal des Staatlichen Museums für Naturkunde Karlsruhe
SUMMARY:Prof. Sami Solanki: Unser unruhiger und lebensspendender Stern, die Sonne
DESCRIPTION;ENCODING=QUOTED-PRINTABLE:F=C3=BCr seine Mitglieder und die interessierte =C3=96ffentlichkeit f=C3=BC
 hrt die Astronomische Vereinigung Karlsruhe e.V. regelm=C3=A4=C3=9Fig Vortr
 agsveranstaltungen durch\, an denen Mitglieder oder G=C3=A4ste =C3=BCber ein
  allgemein interessierendes astronomisches Thema berichten. Der Eintritt zu
  allen Veranstaltungen ist frei. Um eine Spende zur Begleichung unserer Unk
 osten wird gebeten.=0D=0A=0D=0A  Die Sonne\, der leuchtende Kern des Sonnensystems\, 
 ist unser scheinbar immer gleicher Begleiter. Ihr Licht erhellt unsere Tage
  und h=C3=A4lt die Erde warm. Ohne diese W=C3=A4rme von der Sonne g=C3=A4be
  es kaum Leben auf der Erde. Gleichzeitig ist die Sonne auch ein unruhiger 
 Stern. Sie zeigt viele aktiven Ph=C3=A4nomenen wie dunkle Sonnenflecken\, en
 ergiereiche=C2=A0 Eruptionen und die riesigen koronalen Massenausw=C3=BCrfe
  bei denen sie einen Teil ihrer Atmosph=C3=A4re in den Weltraum schleudert.
  Die Sonnenaktivit=C3=A4t beeinflusst die Atmosph=C3=A4re der Erde und kann
  Satelliten und andere technische Systeme st=C3=B6ren oder gar zerst=C3=B6r
 en. Der Vortrag gibt eine Einf=C3=BChrung in die Sonnenaktivit=C3=A4t\, dere
 n Ursachen\, wie auch deren Auswirkungen auf die Erde. Es wird auch kurz bes
 chrieben\, wie wir der Sonne ihre Geheimnisse entlocken. =20
URL:https://kalender.karlsruhe.de/db/termine/wirtschaft/prof_sami_solanki_unser_unruhiger_und
CLASS:PUBLIC
DTSTART:20260511T200000
DTEND:20260511T220000
DTSTAMP:20260402T092305
CATEGORIES:Wirtschaft, Wissenschaft
ATTACH:https://kalender.karlsruhe.de/db/termine/wirtschaft/prof_sami_solanki_unser_unruhiger_und/file/icon_Vortrag 13.10.2025.jpg
END:VEVENT

END:VCALENDAR
