BEGIN:VCALENDAR
VERSION:2.0
CALSCALE:GREGORIAN
PRODID:https://kalender.karlsruhe.de/db/termine/
METHOD:PUBLISH
BEGIN:VEVENT
UID:580000
ORGANIZER;CN=TRIANGEL Transfer | Kultur | Raum:MAILTO:hello@triangel.space
LOCATION:TRIANGEL Transfer | Kultur | Raum
SUMMARY:Science Camp "Klima & Umwelt"
DESCRIPTION;ENCODING=QUOTED-PRINTABLE:Hast du dich schon einmal gefragt\, was unser Klima beeinflusst und wie man 
 Ver=C3=A4nderungen in der Umwelt erkennen kann? Im Science Camp Klima & Umw
 elt findest du es selbst heraus =E2=80=93 hier kannst du eine Woche lang Fo
 rscherin oder Forscher sein!=0D=0A=0D=0A  Eine Woche lang tauchst du in spannende E
 xperimente und Forschung ein. Wir k=C3=B6nnen einen Wetterballon steigen la
 ssen und echte Wetterdaten sammeln. Du untersuchst Bodenproben wie ein Prof
 i\, testest im Windkanal\, wie Luftstr=C3=B6mungen funktionieren und findest 
 heraus\, wie stabil B=C3=A4ume wirklich sind    Au=C3=9Ferdem triffst du ech
 te Forscherinnen und Forscher und bekommst von ihnen spannende Einblicke. S
 tudierende begleiten euch und zeigen\, wie das Uni-Leben aussieht. Nat=C3=BC
 rlich kommt auch der Spa=C3=9F nicht zu kurz. Freu dich auf coole Abendakti
 onen wie Pizzaessen\, Spieleabende und einen gemeinsamen Besuch im Europabad
 .    Neugierig geworden? Dann sei dabei und entdecke\, wie spannend Wissensc
 haft sein kann!    Alle Infos auf einen Blick:    Wann?=C2=A025.-30.10.26  
 =0D=0A  Wo?=C2=A0KIT  =0D=0A  F=C3=BCr wen?=C2=A0Jugendliche der Klassenstufen 8-10
   =0D=0A  Kostenanteil:=C2=A0275 =E2=82=AC  =0D=0A  Falls die Kosten ein Hindernis 
 f=C3=BCr dich sind\, gibt es die M=C3=B6glichkeit einer finanziellen Unterst
 =C3=BCtzung. Melde dich gerne einfach bei uns =E2=80=93 gemeinsam finden wi
 r bestimmt eine L=C3=B6sung!  =0D=0A  Vorkenntnisse?=C2=A0Nicht n=C3=B6tig =E2
 =80=93 einfach mitmachen!    Weitere Informationen zu der Veranstaltung und
  den Link zur Anmeldung gibt es auf unserer Website. =20
URL:https://kalender.karlsruhe.de/db/termine/wirtschaft/science_camp_klima_umwelt
CLASS:PUBLIC
DTSTART:20261025T000000
DTEND:20261030T000000
DTSTAMP:20260316T084439
CATEGORIES:Wirtschaft, Wissenschaft
ATTACH:https://kalender.karlsruhe.de/db/termine/wirtschaft/science_camp_klima_umwelt/file/icon_Science Camp Klima und Umwelt.jpg
END:VEVENT

END:VCALENDAR
