BEGIN:VCALENDAR
VERSION:2.0
CALSCALE:GREGORIAN
PRODID:https://kalender.karlsruhe.de/db/termine/
METHOD:PUBLISH
BEGIN:VEVENT
UID:580955
ORGANIZER;CN=Green Software Development Karlsruhe:MAILTO:info@bluehands.de
LOCATION:bluehands GmbH Communication KG
SUMMARY:Umweltauswirkung von Software "at scale" messen - mit Carmen
DESCRIPTION;ENCODING=QUOTED-PRINTABLE:Wie lassen sich die CO=E2=82=82-Emissionen von Software =C3=BCber viele Anw
 endungen hinweg erfassen? Bei der n=C3=A4chsten Veranstaltung der Green Sof
 tware Development Karlsruhe am 5. Mai 2026 dreht sich alles um Carmen - die
  Carbon Measurement Engine - ein Open Source Projekt der Green Software Fou
 ndation. Florent Morel (Amadeus) gibt einen praxisnahen Deep Dive in Archit
 ektur\, Metriken und Einsatzm=C3=B6glichkeiten.=0D=0A=0D=0A    Carbon Measurement En
 gine: Der n=C3=A4chste Schritt nach Cloud Carbon Footprint        =E2=80=9E
 Der K=C3=B6nig ist tot\, es lebe der K=C3=B6nig=E2=80=9C =E2=80=93 mit diese
 n Worten l=C3=A4sst sich die Entstehung von Carmen treffend beschreiben. Na
 ch mehreren Jahren interner Entwicklung bei Amadeus\, einem f=C3=BChrenden A
 nbieter von IT=E2=80=91L=C3=B6sungen f=C3=BCr die Tourismusbranche\, wurde d
 as Projekt teilweise open sourced und an die Green Software Foundation (GSF
 ) =C3=BCbergeben. Das Ziel: Emissionen =C3=BCber eine Vielzahl von Anwendun
 gen hinweg konsistent und skalierbar erfassen.Carmen tritt damit faktisch d
 ie Nachfolge von Cloud Carbon Footprint an und nutzt auch dessen Kennzahlen
 .         Vom Impact Framework zur realen Anwendung        Im Kern baut Car
 men auf dem Impact Framework auf und =C3=BCbersetzt dieses in ein produktio
 nsreifes Tooling. Damit wird das Framework konkret im Alltag von Software
 =E2=80=91Teams einsetzbar.         Was Teilnehmende mitnehmen          Arch
 itektur      und Funktionsweise         verwendete      Metriken         ko
 nkrete      Einsatzszenarien           Der Referent      Florent Morel ist 
 seit 2005 in der Technologiebranche t=C3=A4tig =E2=80=93 zun=C3=A4chst als 
 Softwareentwickler\, sp=C3=A4ter als Software Engineering Manager bei Amadeu
 s. Seit 2022 engagiert er sich intensiv f=C3=BCr Green=E2=80=91IT=E2=80=91I
 nitiativen. Er ist Initiator der Amadeus Software Carbon Footprint Engine. 
  =0D=0A  =0D=0A      Agenda      18:00 Uhr Einlass & Networking  =0D=0A  18:30 Uhr Vort
 rag mit kleiner Pause zwischendurch\, anschlie=C3=9Fend Diskussion\, Q&A und 
 Networking  =0D=0A  21:00 Uhr Ende      Organisatorisches      Veranstaltungsor
 t ist bei der bluehands GmbH & Co.mmunication KG statt\, Waldstra=C3=9Fe 63 
 (Eingang Blumenstra=C3=9Fe)\, 76133 Karlsruhe.    Die Veranstaltung findet i
 n=C2=A0Pr=C3=A4senz=C2=A0statt.     Vortragssprache ist diesmal englisch   
  . Ausw=C3=A4rtige Interessent:innen die gerne=C2=A0remote=C2=A0teilnehmen 
 m=C3=B6chten\, werden gebeten\, dies bei der Anmeldung in meetup anzugeben.  
   bluehands freut sich wieder darauf\, den Abend voller Insights\, Austausch 
 und Networking zu hosten. Dazu gibt es leckere Snacks und Getr=C3=A4nke.   
   Interessierte sind wie immer herzlich willkommen!        Unsere Unterst
 =C3=BCtzer      Die Veranstaltung wird von=C2=A0karlsruhe.digital=C2=A0im R
 ahmen des =E2=80=9Csupported by karlsruhe.digital=E2=80=9D Programms unters
 t=C3=BCtzt. Green Software Development Karlsruhe ist ein unabh=C3=A4ngiger 
 Teil der globalen=C2=A0Green Software Foundation=C2=A0Community. Das=C2=A0C
 yberForum\, die Initiative=C2=A0Fairantwortung\, der=C2=A0ImpactHub Karlsruhe
 =C2=A0sowie die Wirtschaftsf=C3=B6rderung Karlsruhe sorgen zudem f=C3=BCr e
 ine Verbreitung des Events im Netzwerk.=C2=A0Vielen Dank daf=C3=BCr! =20
URL:https://kalender.karlsruhe.de/db/termine/wirtschaft/umweltauswirkung_von_software_at_scale
CLASS:PUBLIC
DTSTART:20260505T183000
DTEND:20260505T210000
DTSTAMP:20260416T122756
CATEGORIES:Wirtschaft, Wissenschaft
ATTACH:https://kalender.karlsruhe.de/db/termine/wirtschaft/umweltauswirkung_von_software_at_scale/file/icon_GSDKA 0526 CARMEN.jpg
END:VEVENT

END:VCALENDAR
