BEGIN:VCALENDAR
VERSION:2.0
CALSCALE:GREGORIAN
PRODID:https://kalender.karlsruhe.de/db/termine/
METHOD:PUBLISH
BEGIN:VEVENT
UID:580365
ORGANIZER;CN=Ring Politischer Jugend Karlsruhe e.V.:MAILTO:vorstand@rpj-karlsruhe.de
LOCATION:Karlshochschule International University
SUMMARY:Zukunft Europa?
DESCRIPTION;ENCODING=QUOTED-PRINTABLE:Teil der Europawochen Karlsruhe=0D=0A=0D=0A  Das Forschungsprojekt Future Democraci
 es der Karlshochschule International University und der Ring politischer Ju
 gend Karlsruhe veranstalten eine Podiumsdiskussion zur Zukunft Europas.    
 Europa steht aktuell unter starkem Druck: au=C3=9Fenpolitisch\, gesellschaft
 lich und demokratisch. Zwischen den USA\, Russland und China =E2=80=9Ezerrie
 ben=E2=80=9C\, so die g=C3=A4ngige Erz=C3=A4hlung. Der russische Angriffskri
 eg gegen die Ukraine hat die europ=C3=A4ische Friedensordnung grundlegend e
 rsch=C3=BCttert und Fragen nach Sicherheit\, Souver=C3=A4nit=C3=A4t und geme
 insamer Handlungsf=C3=A4higkeit neu aufgeworfen. Gleichzeitig zeigen Entwic
 klungen wie der Austritt des Vereinigten K=C3=B6nigreichs aus der Europ=C3
 =A4ischen Union\, zunehmende rechtspopulistische Str=C3=B6mungen in vielen M
 itgliedstaaten sowie wachsende politische Spannungen innerhalb Europas m=C3
 =B6gliche Aufl=C3=B6sungserscheinungen des europ=C3=A4ischen Projekts.    U
 nd doch bleibt die Identifikation mit Europa insbesondere unter jungen Mens
 chen hoch.      Vor diesem Hintergrund diskutieren junge Expert:innen\, Akte
 ur:innen aus den politischen Jugendorganisationen und Changemaker:innen\, ob
  es eine Zukunft Europas gibt und wenn ja\, wie diese aussehen kann. Im Mitt
 elpunkt stehen zentrale Konfliktlinien\, Risiken und Bedrohungen\, aber auch 
 konkrete Gestaltungsspielr=C3=A4ume f=C3=BCr ein handlungsf=C3=A4higes und 
 zukunftsf=C3=A4higes Europa. =20
URL:https://kalender.karlsruhe.de/db/termine/wirtschaft/zukunft_europa
CLASS:PUBLIC
DTSTART:20260511T190000
DTEND:20260511T203000
DTSTAMP:20260330T082015
CATEGORIES:Wirtschaft, Wissenschaft
ATTACH:https://kalender.karlsruhe.de/db/termine/wirtschaft/zukunft_europa/file/icon_Lambrecht Lesung.jpg
END:VEVENT

END:VCALENDAR
